BEGIN:VCALENDAR
VERSION:2.0
PRODID:-//Stichting Circusspel - ECPv6.15.20//NONSGML v1.0//EN
CALSCALE:GREGORIAN
METHOD:PUBLISH
X-WR-CALNAME:Stichting Circusspel
X-ORIGINAL-URL:https://circusspel.nl
X-WR-CALDESC:Evenementen voor Stichting Circusspel
REFRESH-INTERVAL;VALUE=DURATION:PT1H
X-Robots-Tag:noindex
X-PUBLISHED-TTL:PT1H
BEGIN:VTIMEZONE
TZID:Europe/Amsterdam
BEGIN:DAYLIGHT
TZOFFSETFROM:+0100
TZOFFSETTO:+0200
TZNAME:CEST
DTSTART:20240331T010000
END:DAYLIGHT
BEGIN:STANDARD
TZOFFSETFROM:+0200
TZOFFSETTO:+0100
TZNAME:CET
DTSTART:20241027T010000
END:STANDARD
BEGIN:DAYLIGHT
TZOFFSETFROM:+0100
TZOFFSETTO:+0200
TZNAME:CEST
DTSTART:20250330T010000
END:DAYLIGHT
BEGIN:STANDARD
TZOFFSETFROM:+0200
TZOFFSETTO:+0100
TZNAME:CET
DTSTART:20251026T010000
END:STANDARD
BEGIN:DAYLIGHT
TZOFFSETFROM:+0100
TZOFFSETTO:+0200
TZNAME:CEST
DTSTART:20260329T010000
END:DAYLIGHT
BEGIN:STANDARD
TZOFFSETFROM:+0200
TZOFFSETTO:+0100
TZNAME:CET
DTSTART:20261025T010000
END:STANDARD
BEGIN:DAYLIGHT
TZOFFSETFROM:+0100
TZOFFSETTO:+0200
TZNAME:CEST
DTSTART:20270328T010000
END:DAYLIGHT
BEGIN:STANDARD
TZOFFSETFROM:+0200
TZOFFSETTO:+0100
TZNAME:CET
DTSTART:20271031T010000
END:STANDARD
END:VTIMEZONE
BEGIN:VEVENT
DTSTART;TZID=Europe/Amsterdam:20260409T100000
DTEND;TZID=Europe/Amsterdam:20260409T160000
DTSTAMP:20260422T105944
CREATED:20260109T141032Z
LAST-MODIFIED:20260109T141032Z
UID:5384-1775728800-1775750400@circusspel.nl
SUMMARY:Circus Fun Day in Sophia Kinderziekenhuis
DESCRIPTION:
URL:https://circusspel.nl/event/circus-fun-day-in-sophia-kinderziekenhuis/
ATTACH;FMTTYPE=image/jpeg:https://circusspel.nl/wp-content/uploads/2025/12/23dec2025-Sophia.jpg
END:VEVENT
BEGIN:VEVENT
DTSTART;TZID=Europe/Amsterdam:20260303T150000
DTEND;TZID=Europe/Amsterdam:20260303T170000
DTSTAMP:20260422T105944
CREATED:20260130T125222Z
LAST-MODIFIED:20260212T092254Z
UID:5400-1772550000-1772557200@circusspel.nl
SUMMARY:Parels van Schiedam
DESCRIPTION:De Bibliotheek Schiedam heeft een afdeling Cultuureducatie waarmee de scholen in Schiedam ondersteund worden. Via het programma Cultuurparels kunnen kinderen van het basisonderwijs kennismaken met verschillende kunstdisciplines. En natuurlijk hoort circus daarbij! \nVan 3 maart t/m 7 april 2026 is er een serie van zes circuslessen op OBS Het Startblok. Vanaf 4 februari kunnen ouders hun kinderen aanmelden. Deelname is gratis. \nAanmelden
URL:https://circusspel.nl/event/parels-van-schiedam/
ATTACH;FMTTYPE=image/jpeg:https://circusspel.nl/wp-content/uploads/2026/01/Circusparel.jpg
END:VEVENT
BEGIN:VEVENT
DTSTART;TZID=Europe/Amsterdam:20251223T100000
DTEND;TZID=Europe/Amsterdam:20251223T160000
DTSTAMP:20260422T105944
CREATED:20250904T103418Z
LAST-MODIFIED:20250904T103418Z
UID:5315-1766484000-1766505600@circusspel.nl
SUMMARY:Sophia Fun Day in kerstcircussfeer
DESCRIPTION:Al twee keer eerder verzorgden Johan en Evelien een leuke circusdag in het Sophia Kinderziekenhuis in Rotterdam. Nu komt er op dinsdag 23 december een speciale editie in de sfeer van het kerstcircus. Kinderen die in het ziekenhuis liggen of die dag op bezoek komen\, kunnen kijken en vooral ook meedoen aan de meespeel-circusvoorstelling in de aankomsthal.
URL:https://circusspel.nl/event/sophia-fun-day-in-kerstcircussfeer/
LOCATION:Sophia Fun Day\, Sophia Kinderziekhuis\, Rotterdam\, Netherlands
ATTACH;FMTTYPE=image/jpeg:https://circusspel.nl/wp-content/uploads/2025/09/kerstcircusbal.jpg
END:VEVENT
BEGIN:VEVENT
DTSTART;TZID=Europe/Amsterdam:20251218T160000
DTEND;TZID=Europe/Amsterdam:20251218T163000
DTSTAMP:20260422T105944
CREATED:20251214T102012Z
LAST-MODIFIED:20251214T102048Z
UID:5364-1766073600-1766075400@circusspel.nl
SUMMARY:Kerstcircus optreden
DESCRIPTION:Omdat het de laatste circusles van dit jaar is en we graag willen laten zien wat we geleerd hebben\, sluiten we 2025 af met een kerst-circus-optreden van Circus Klup. Voor het kleinschalige optreden nodigen de artiesten zelf hun publiek uit.
URL:https://circusspel.nl/event/kerstcircus-optreden/
ATTACH;FMTTYPE=image/jpeg:https://circusspel.nl/wp-content/uploads/2025/12/Nina-balanceert.jpeg
END:VEVENT
BEGIN:VEVENT
DTSTART;TZID=Europe/Amsterdam:20251002T151500
DTEND;TZID=Europe/Amsterdam:20251002T163000
DTSTAMP:20260422T105944
CREATED:20250715T202448Z
LAST-MODIFIED:20250715T203943Z
UID:5299-1759418100-1759422600@circusspel.nl
SUMMARY:Start seizoen Circus Klup!
DESCRIPTION:Circus Klup gaat na de zomervakantie naar een nieuwe locatie. De circuslessen zullen vanaf 2 oktober plaatsvinden in de prachtige gymzaal van Het Mozaïek in Oud-Beijerland. Graaf van Egmondstraat 79\, 3261 AL Oud-Beijerland. \nOp deze nieuwe locatie is er ook weer plek voor nieuwe artiesten! \nKijk hier naar meer informatie over Circus Klup. 
URL:https://circusspel.nl/event/start-seizoen-van-circus-klup/
LOCATION:Het Mozaïek\, Graaf van Egmondstraat 79\, Oud-Beijerland\, 3261 AK
ATTACH;FMTTYPE=image/jpeg:https://circusspel.nl/wp-content/uploads/2025/07/KC-Mozaiek-Speelplein-Oud-Beijerland.jpg
END:VEVENT
BEGIN:VEVENT
DTSTART;TZID=Europe/Amsterdam:20250709T103000
DTEND;TZID=Europe/Amsterdam:20250709T113000
DTSTAMP:20260422T105944
CREATED:20250615T210212Z
LAST-MODIFIED:20250620T121350Z
UID:5221-1752057000-1752060600@circusspel.nl
SUMMARY:Seniorencircus met hulp van scholieren
DESCRIPTION:Op woensdagochtend 9 juli zal er in verzorgingshuis ‘de Rembrandt’ in Oud-Beijerland een bijzondere editie plaatsvinden van ‘Circus op de koffie’. Deze keer zullen scholieren van CSG Willem van Oranje meewerken bij het uitvoeren van de circuskunsten. Hoe mooi is het dat jonge en oude mensen met elkaar samen spelen!
URL:https://circusspel.nl/event/seniorencircus-met-hulp-van-scholieren/
LOCATION:De Rembrandt\, Rembrandtplein 1\, Oud-Beijerland
END:VEVENT
BEGIN:VEVENT
DTSTART;TZID=Europe/Amsterdam:20250627T133000
DTEND;TZID=Europe/Amsterdam:20250627T170000
DTSTAMP:20260422T105944
CREATED:20250614T084902Z
LAST-MODIFIED:20250618T185300Z
UID:5218-1751031000-1751043600@circusspel.nl
SUMMARY:Samenspeeldag in Oud-Beijerland
DESCRIPTION:Op vrijdagmiddag 27 juni organiseert de Gemeente Hoeksche Waard een middag waar alle kinderen van het eiland\, mét en zonder beperking\, welkom zijn om met elkaar te spelen. Stichting Circusspel doet ook mee met een circusspeelplaats waar kinderen elkaar kunnen ontmoeten en samen het circusspel kunnen spelen.
URL:https://circusspel.nl/event/samenspeeldag-in-oud-beijerland/
LOCATION:Speelvlucht\, Oud-Beijerland\, Boezemsingel 9\, Oud-Beijerland\, Netherlands
ATTACH;FMTTYPE=image/jpeg:https://circusspel.nl/wp-content/uploads/2025/06/Flyer-Samenspeeldag.jpg
END:VEVENT
BEGIN:VEVENT
DTSTART;TZID=Europe/Amsterdam:20250625T103000
DTEND;TZID=Europe/Amsterdam:20250625T113000
DTSTAMP:20260422T105944
CREATED:20250614T081319Z
LAST-MODIFIED:20250618T185525Z
UID:5215-1750847400-1750851000@circusspel.nl
SUMMARY:'Circus op de Koffie' in Puttershoek
DESCRIPTION:Op woensdagochtend 25 juni komt het clownsduo Hannes en Hannes op de koffie bij ‘Huis van de wijk’ aan het Zomerplein in Puttershoek. Als het net zo gaat als eerder in Numansdorp dan wordt het vast weer een gezellige\, speelse en kunstige belevenis! \nCircus voor senioren is een van de leuke activiteiten van Stichting Circusspel. Plezier beleven aan het spelen blijft op alle leeftijden leuk!
URL:https://circusspel.nl/event/circus-op-de-koffie-in-puttershoek/
LOCATION:Zomerplein\, Puttershoek\, Zomerplein 15\, Puttershoek\, Netherlands
ATTACH;FMTTYPE=image/jpeg:https://circusspel.nl/wp-content/uploads/2025/01/P1130890-scaled-e1749889130135.jpg
END:VEVENT
BEGIN:VEVENT
DTSTART;TZID=Europe/Amsterdam:20250618T090000
DTEND;TZID=Europe/Amsterdam:20250618T120000
DTSTAMP:20260422T105944
CREATED:20250409T130436Z
LAST-MODIFIED:20250618T175558Z
UID:5120-1750237200-1750248000@circusspel.nl
SUMMARY:Samenspeeldag met Stichting het Gehandicapte Kind
DESCRIPTION:Het afgelopen schooljaar hebben kinderen van de Ark (Speciaal Onderwijs) en De Hoeksteen (Basisonderwijs) elkaar een aantal keer ontmoet om kennis met elkaar te maken. Als afsluiting van deze ontmoetingen organiseert Stichting het Gehandicapte Kind op woensdag 18 juni een Samenspeeldag in Speeltuin Speelvlucht in Oud-Beijerland. Met Stichting Circusspel zullen we een bijzondere circusactiviteit verzorgen waarbij de kinderen op een leuke manier kunnen samenspelen. \n 
URL:https://circusspel.nl/event/stichting-het-gehandicapte-kind-samenspeeldag-in-oud-beijerland/
LOCATION:Speelvlucht\, Oud-Beijerland\, Boezemsingel 9\, Oud-Beijerland\, Netherlands
ATTACH;FMTTYPE=image/jpeg:https://circusspel.nl/wp-content/uploads/2025/04/Samenspelen-16-9-scaled-e1744203713789.jpg
END:VEVENT
BEGIN:VEVENT
DTSTART;TZID=Europe/Amsterdam:20250410T100000
DTEND;TZID=Europe/Amsterdam:20250410T160000
DTSTAMP:20260422T105944
CREATED:20250314T102412Z
LAST-MODIFIED:20250409T131332Z
UID:5097-1744279200-1744300800@circusspel.nl
SUMMARY:Sophia Fun Day
DESCRIPTION:Omdat het zo leuk was en veel kinderen er zoveel plezier aan beleefden\, zullen Johan en Evelien op 10 april weer een ‘Circus Funday’ verzorgen in het Sophia Kinderziekenhuis in Rotterdam. Kinderen die in het ziekenhuis liggen of die dag op bezoek komen\, kunnen kijken en meedoen aan de meespeel-circusvoorstelling in de aankomsthal.
URL:https://circusspel.nl/event/sophia-fun-day/
ATTACH;FMTTYPE=image/jpeg:https://circusspel.nl/wp-content/uploads/2025/04/JE-Kegels-16-9-e1744204382662.jpg
END:VEVENT
END:VCALENDAR